BEGIN:VCALENDAR
VERSION:2.0
PRODID:-//wp-events-plugin.com//6.4.8//EN
BEGIN:VEVENT
UID:9@danskmiljoteknologi.dk
DTSTART:20240515T113000Z
DTEND:20240515T130000Z
DTSTAMP:20240429T063845Z
URL:https://danskmiljoteknologi.dk/arrangementer/medlemsmoede-politisk-ind
 sats-paa-luftomraadet/
SUMMARY:Medlemsmøde - Politisk indsats på luftområdet
DESCRIPTION:Onsdag den 15. maj 2024 kl. 13.30 til 15.00 afholder Dansk Milj
 øteknologi medlemsmøde om den politisk indsats på luftområdet\n\nLuftf
 orurening er den direkte årsag til ca. 1.000 for tidlige dødsfald i Danm
 ark\, og I EU anslås det at ca. 300.000 mennesker dør for tidligt\, som 
 følge af luftforurening. I Dansk Miljøteknologi mener vi\, at luftområd
 et er blevet lidt glemt\, efter at vand har fået rigtig meget opmærksomh
 ed indenfor de sidste par år. De to luftpartnerskaber\, ”Luftvisionen
 ” og ”Nationalt partnerskab for ren luft”\, er i deres afsluttende f
 aser\, og de politiske initiativer på luftområdet\, mener vi i det hele 
 taget\, har brug for fornyet opmærksomhed. Et nyt luftkvalitetsdirektiv e
 r netop forhandlet på plads i EU og det forventes\, at dette nye direktiv
  bliver vedtaget inden årets udgang. Direktivet indbefatter bl.a. nye gr
 ænseværdier for NOx og partikler og flere krav til målinger. Forhåbent
 lig kan direktivet være med til at sætte fornyet fokus på denne vigtige
  dagsorden. Derfor vil vi gerne invitere til medlemsmøde\, hvor vi vil st
 ille spørgsmålet – hvad skal der til for at sætte fornyet fokus på l
 uftforurening i Danmark? Medlemsmødet er online og er åbent for alle med
 lemmer af Dansk Miljøteknologi. Der vil være et par faglige indlæg og d
 erefter tid til at drøfte den politiske indsats for DMT.\n\nProgram\n\nKl
 . 13.30 Velkommen\, navnerunde og introduktion til mødet\n\nKl.13.40 Opl
 æg om nyeste projekter og resultater inden for ren-luft teknologi. V. Tek
 nologisk Institut\n\nKl. 14.00 Orientering om nye grænseværdier og krav 
 i det kommende luftkvalitetsdirektiv. V. Erik Christiansen\, Dansk Miljøt
 eknologi\n\nKl. 14.10 Fælles drøftelse og ønsker til hvordan vi som bra
 ncheforening sætter politisk fokus på ren-luft dagsordenen. Alle\n\nKl. 
 15.00 Tak for i dag\n\n&nbsp\;
ATTACH;FMTTYPE=image/jpeg:https://danskmiljoteknologi.dk/wp-content/upload
 s/2023/10/peter-werkman-QNOWmmOi4es-unsplash-scaled.jpg
CATEGORIES:Luft
END:VEVENT
END:VCALENDAR